BEGIN:VCALENDAR
VERSION:2.0
PRODID:-//Escola Imaculada Goiânia - ECPv6.0.4//NONSGML v1.0//EN
CALSCALE:GREGORIAN
METHOD:PUBLISH
X-WR-CALNAME:Escola Imaculada Goiânia
X-ORIGINAL-URL:https://imaculadagoiania.com.br
X-WR-CALDESC:Events for Escola Imaculada Goiânia
REFRESH-INTERVAL;VALUE=DURATION:PT1H
X-Robots-Tag:noindex
X-PUBLISHED-TTL:PT1H
BEGIN:VTIMEZONE
TZID:America/Sao_Paulo
BEGIN:STANDARD
TZOFFSETFROM:-0300
TZOFFSETTO:-0300
TZNAME:-03
DTSTART:20230101T000000
END:STANDARD
END:VTIMEZONE
BEGIN:VEVENT
DTSTART;VALUE=DATE:20230606
DTEND;VALUE=DATE:20230617
DTSTAMP:20260426T003811
CREATED:20230208T150840Z
LAST-MODIFIED:20230208T150840Z
UID:5047-1686009600-1686959999@imaculadagoiania.com.br
SUMMARY:6 a 16  – Avaliações do 1º ao 5º ano – 2º bimestre
DESCRIPTION:
URL:https://imaculadagoiania.com.br/calendario/6-a-16-avaliacoes-do-1o-ao-5o-ano-2o-bimestre/
LOCATION:Rua Rui Brasil Cavalcante\, 602\, Setor Marista\, Goiânia\, Goiás\, 74140-140\, Brasil
END:VEVENT
END:VCALENDAR