BEGIN:VCALENDAR
VERSION:2.0
PRODID:-//Escola Imaculada Goiânia - ECPv6.0.4//NONSGML v1.0//EN
CALSCALE:GREGORIAN
METHOD:PUBLISH
X-ORIGINAL-URL:https://imaculadagoiania.com.br
X-WR-CALDESC:Events for Escola Imaculada Goiânia
REFRESH-INTERVAL;VALUE=DURATION:PT1H
X-Robots-Tag:noindex
X-PUBLISHED-TTL:PT1H
BEGIN:VTIMEZONE
TZID:America/Sao_Paulo
BEGIN:STANDARD
TZOFFSETFROM:-0300
TZOFFSETTO:-0300
TZNAME:-03
DTSTART:20230101T000000
END:STANDARD
END:VTIMEZONE
BEGIN:VEVENT
DTSTART;VALUE=DATE:20231002
DTEND;VALUE=DATE:20231007
DTSTAMP:20260425T200117
CREATED:20230208T210728Z
LAST-MODIFIED:20230208T210728Z
UID:5095-1696204800-1696636799@imaculadagoiania.com.br
SUMMARY:2 a 6– Jogos do 13º Torneio de Futsal
DESCRIPTION:
URL:https://imaculadagoiania.com.br/calendario/2-a-6-jogos-do-13o-torneio-de-futsal/
LOCATION:Rua Rui Brasil Cavalcante\, 602\, Setor Marista\, Goiânia\, Goiás\, 74140-140\, Brasil
END:VEVENT
END:VCALENDAR