BEGIN:VCALENDAR
VERSION:2.0
PRODID:-//Escola Imaculada Goiânia - ECPv6.0.4//NONSGML v1.0//EN
CALSCALE:GREGORIAN
METHOD:PUBLISH
X-ORIGINAL-URL:https://imaculadagoiania.com.br
X-WR-CALDESC:Events for Escola Imaculada Goiânia
REFRESH-INTERVAL;VALUE=DURATION:PT1H
X-Robots-Tag:noindex
X-PUBLISHED-TTL:PT1H
BEGIN:VTIMEZONE
TZID:America/Sao_Paulo
BEGIN:STANDARD
TZOFFSETFROM:-0300
TZOFFSETTO:-0300
TZNAME:-03
DTSTART:20230101T000000
END:STANDARD
END:VTIMEZONE
BEGIN:VEVENT
DTSTART;VALUE=DATE:20231023
DTEND;VALUE=DATE:20231025
DTSTAMP:20260425T200135
CREATED:20230208T211215Z
LAST-MODIFIED:20230208T211215Z
UID:5105-1698019200-1698191999@imaculadagoiania.com.br
SUMMARY:23 e 24 – Feriado municipal  e recesso – Aniversário de Goiânia
DESCRIPTION:
URL:https://imaculadagoiania.com.br/calendario/23-e-24-feriado-municipal-e-recesso-aniversario-de-goiania/
LOCATION:Rua Rui Brasil Cavalcante\, 602\, Setor Marista\, Goiânia\, Goiás\, 74140-140\, Brasil
END:VEVENT
END:VCALENDAR