BEGIN:VCALENDAR
VERSION:2.0
PRODID:-//Escola Imaculada Goiânia - ECPv6.0.4//NONSGML v1.0//EN
CALSCALE:GREGORIAN
METHOD:PUBLISH
X-ORIGINAL-URL:https://imaculadagoiania.com.br
X-WR-CALDESC:Events for Escola Imaculada Goiânia
REFRESH-INTERVAL;VALUE=DURATION:PT1H
X-Robots-Tag:noindex
X-PUBLISHED-TTL:PT1H
BEGIN:VTIMEZONE
TZID:America/Sao_Paulo
BEGIN:STANDARD
TZOFFSETFROM:-0300
TZOFFSETTO:-0300
TZNAME:-03
DTSTART:20230101T000000
END:STANDARD
END:VTIMEZONE
BEGIN:VEVENT
DTSTART;VALUE=DATE:20231204
DTEND;VALUE=DATE:20231207
DTSTAMP:20260425T165010
CREATED:20230208T212030Z
LAST-MODIFIED:20230208T212030Z
UID:5125-1701648000-1701907199@imaculadagoiania.com.br
SUMMARY:4 a 6 – Recuperação especial do 2º ao 5º ano
DESCRIPTION:
URL:https://imaculadagoiania.com.br/calendario/4-a-6-recuperacao-especial-do-2o-ao-5o-ano/
LOCATION:Rua Rui Brasil Cavalcante\, 602\, Setor Marista\, Goiânia\, Goiás\, 74140-140\, Brasil
END:VEVENT
END:VCALENDAR