BEGIN:VCALENDAR
VERSION:2.0
PRODID:-//Escola Imaculada Goiânia - ECPv6.0.4//NONSGML v1.0//EN
CALSCALE:GREGORIAN
METHOD:PUBLISH
X-ORIGINAL-URL:https://imaculadagoiania.com.br
X-WR-CALDESC:Events for Escola Imaculada Goiânia
REFRESH-INTERVAL;VALUE=DURATION:PT1H
X-Robots-Tag:noindex
X-PUBLISHED-TTL:PT1H
BEGIN:VTIMEZONE
TZID:America/Sao_Paulo
BEGIN:STANDARD
TZOFFSETFROM:-0300
TZOFFSETTO:-0300
TZNAME:-03
DTSTART:20230101T000000
END:STANDARD
END:VTIMEZONE
BEGIN:VEVENT
DTSTART;VALUE=DATE:20231220
DTEND;VALUE=DATE:20231221
DTSTAMP:20260422T203501
CREATED:20230208T212418Z
LAST-MODIFIED:20230208T212418Z
UID:5137-1703030400-1703116799@imaculadagoiania.com.br
SUMMARY:20 – Confraternização
DESCRIPTION:
URL:https://imaculadagoiania.com.br/calendario/20-confraternizacao/
LOCATION:Rua Rui Brasil Cavalcante\, 602\, Setor Marista\, Goiânia\, Goiás\, 74140-140\, Brasil
END:VEVENT
BEGIN:VEVENT
DTSTART;VALUE=DATE:20231211
DTEND;VALUE=DATE:20231221
DTSTAMP:20260422T203501
CREATED:20230208T212349Z
LAST-MODIFIED:20230208T212349Z
UID:5135-1702252800-1703116799@imaculadagoiania.com.br
SUMMARY:11 a 20 – Planejamento e formação do corpo docente
DESCRIPTION:
URL:https://imaculadagoiania.com.br/calendario/11-a-20-planejamento-e-formacao-do-corpo-docente/
LOCATION:Rua Rui Brasil Cavalcante\, 602\, Setor Marista\, Goiânia\, Goiás\, 74140-140\, Brasil
END:VEVENT
BEGIN:VEVENT
DTSTART;VALUE=DATE:20231208
DTEND;VALUE=DATE:20231209
DTSTAMP:20260422T203501
CREATED:20230208T212302Z
LAST-MODIFIED:20230208T212302Z
UID:5133-1701993600-1702079999@imaculadagoiania.com.br
SUMMARY:8 – Dia de Nossa Senhora da Imaculada Conceição
DESCRIPTION:
URL:https://imaculadagoiania.com.br/calendario/8-dia-de-nossa-senhora-da-imaculada-conceicao/
LOCATION:Rua Rui Brasil Cavalcante\, 602\, Setor Marista\, Goiânia\, Goiás\, 74140-140\, Brasil
END:VEVENT
BEGIN:VEVENT
DTSTART;VALUE=DATE:20231207
DTEND;VALUE=DATE:20231208
DTSTAMP:20260422T203501
CREATED:20230208T212222Z
LAST-MODIFIED:20230208T212222Z
UID:5131-1701907200-1701993599@imaculadagoiania.com.br
SUMMARY:7  –  Entrega das avaliações – Infantil I ao 5º ano
DESCRIPTION:
URL:https://imaculadagoiania.com.br/calendario/7-entrega-das-avaliacoes-infantil-i-ao-5o-ano/
LOCATION:Rua Rui Brasil Cavalcante\, 602\, Setor Marista\, Goiânia\, Goiás\, 74140-140\, Brasil
END:VEVENT
BEGIN:VEVENT
DTSTART;VALUE=DATE:20231207
DTEND;VALUE=DATE:20231208
DTSTAMP:20260422T203501
CREATED:20230208T212147Z
LAST-MODIFIED:20230208T212147Z
UID:5129-1701907200-1701993599@imaculadagoiania.com.br
SUMMARY:7 – Encerramento das aulas da Educação Infantil (I ao IV)
DESCRIPTION:
URL:https://imaculadagoiania.com.br/calendario/7-encerramento-das-aulas-da-educacao-infantil-i-ao-iv/
LOCATION:Rua Rui Brasil Cavalcante\, 602\, Setor Marista\, Goiânia\, Goiás\, 74140-140\, Brasil
END:VEVENT
BEGIN:VEVENT
DTSTART;VALUE=DATE:20231204
DTEND;VALUE=DATE:20231207
DTSTAMP:20260422T203501
CREATED:20230208T212030Z
LAST-MODIFIED:20230208T212030Z
UID:5125-1701648000-1701907199@imaculadagoiania.com.br
SUMMARY:4 a 6 – Recuperação especial do 2º ao 5º ano
DESCRIPTION:
URL:https://imaculadagoiania.com.br/calendario/4-a-6-recuperacao-especial-do-2o-ao-5o-ano/
LOCATION:Rua Rui Brasil Cavalcante\, 602\, Setor Marista\, Goiânia\, Goiás\, 74140-140\, Brasil
END:VEVENT
BEGIN:VEVENT
DTSTART;VALUE=DATE:20231202
DTEND;VALUE=DATE:20231203
DTSTAMP:20260422T203501
CREATED:20230208T212106Z
LAST-MODIFIED:20230208T212106Z
UID:5127-1701475200-1701561599@imaculadagoiania.com.br
SUMMARY:2 – Formatura do 5º ano
DESCRIPTION:
URL:https://imaculadagoiania.com.br/calendario/2-formatura-do-5o-ano/
LOCATION:Rua Rui Brasil Cavalcante\, 602\, Setor Marista\, Goiânia\, Goiás\, 74140-140\, Brasil
END:VEVENT
BEGIN:VEVENT
DTSTART;VALUE=DATE:20231201
DTEND;VALUE=DATE:20231202
DTSTAMP:20260422T203501
CREATED:20230208T211947Z
LAST-MODIFIED:20230208T211947Z
UID:5123-1701388800-1701475199@imaculadagoiania.com.br
SUMMARY:1 – Encerramento das aulas do Ensino Fundamental ( 1º ao 5º)
DESCRIPTION:
URL:https://imaculadagoiania.com.br/calendario/1-encerramento-das-aulas-do-ensino-fundamental-1o-ao-5o/
LOCATION:Rua Rui Brasil Cavalcante\, 602\, Setor Marista\, Goiânia\, Goiás\, 74140-140\, Brasil
END:VEVENT
BEGIN:VEVENT
DTSTART;VALUE=DATE:20231130
DTEND;VALUE=DATE:20231201
DTSTAMP:20260422T203501
CREATED:20230208T211902Z
LAST-MODIFIED:20230208T211902Z
UID:5121-1701302400-1701388799@imaculadagoiania.com.br
SUMMARY:30 - Lançamento da 16ª edição da Imaculada em Revista e formatura do PROERD – 5º ano
DESCRIPTION:
URL:https://imaculadagoiania.com.br/calendario/30-lancamento-da-16a-edicao-da-imaculada-em-revista-e-formatura-do-proerd-5o-ano/
LOCATION:Rua Rui Brasil Cavalcante\, 602\, Setor Marista\, Goiânia\, Goiás\, 74140-140\, Brasil
END:VEVENT
BEGIN:VEVENT
DTSTART;VALUE=DATE:20231125
DTEND;VALUE=DATE:20231126
DTSTAMP:20260422T203501
CREATED:20230208T211717Z
LAST-MODIFIED:20230208T211717Z
UID:5119-1700870400-1700956799@imaculadagoiania.com.br
SUMMARY:25 - Comemoração do 1º ano pela conquista da alfabetização
DESCRIPTION:
URL:https://imaculadagoiania.com.br/calendario/25-comemoracao-do-1o-ano-pela-conquista-da-alfabetizacao/
LOCATION:Rua Rui Brasil Cavalcante\, 602\, Setor Marista\, Goiânia\, Goiás\, 74140-140\, Brasil
END:VEVENT
BEGIN:VEVENT
DTSTART;VALUE=DATE:20231120
DTEND;VALUE=DATE:20231129
DTSTAMP:20260422T203501
CREATED:20230208T211646Z
LAST-MODIFIED:20230208T211646Z
UID:5117-1700438400-1701215999@imaculadagoiania.com.br
SUMMARY:20 a 28 – Avaliações do 1º ao 5º ano – 4º bimestre
DESCRIPTION:
URL:https://imaculadagoiania.com.br/calendario/20-a-28-avaliacoes-do-1o-ao-5o-ano-4o-bimestre/
LOCATION:Rua Rui Brasil Cavalcante\, 602\, Setor Marista\, Goiânia\, Goiás\, 74140-140\, Brasil
END:VEVENT
BEGIN:VEVENT
DTSTART;VALUE=DATE:20231118
DTEND;VALUE=DATE:20231119
DTSTAMP:20260422T203501
CREATED:20230208T211602Z
LAST-MODIFIED:20230208T211602Z
UID:5115-1700265600-1700351999@imaculadagoiania.com.br
SUMMARY:18 – Festa de final de ano da Educação Infantil
DESCRIPTION:
URL:https://imaculadagoiania.com.br/calendario/18-festa-de-final-de-ano-da-educacao-infantil/
LOCATION:Rua Rui Brasil Cavalcante\, 602\, Setor Marista\, Goiânia\, Goiás\, 74140-140\, Brasil
END:VEVENT
BEGIN:VEVENT
DTSTART;VALUE=DATE:20231115
DTEND;VALUE=DATE:20231116
DTSTAMP:20260422T203501
CREATED:20230208T211515Z
LAST-MODIFIED:20230208T211515Z
UID:5113-1700006400-1700092799@imaculadagoiania.com.br
SUMMARY:15 –  Feriado nacional  - Proclamação da República
DESCRIPTION:
URL:https://imaculadagoiania.com.br/calendario/15-feriado-nacional-proclamacao-da-republica/
LOCATION:Rua Rui Brasil Cavalcante\, 602\, Setor Marista\, Goiânia\, Goiás\, 74140-140\, Brasil
END:VEVENT
BEGIN:VEVENT
DTSTART;VALUE=DATE:20231111
DTEND;VALUE=DATE:20231112
DTSTAMP:20260422T203501
CREATED:20230208T211430Z
LAST-MODIFIED:20230208T211430Z
UID:5111-1699660800-1699747199@imaculadagoiania.com.br
SUMMARY:11 -  Mostra Cultural
DESCRIPTION:
URL:https://imaculadagoiania.com.br/calendario/11-mostra-cultural/
LOCATION:Rua Rui Brasil Cavalcante\, 602\, Setor Marista\, Goiânia\, Goiás\, 74140-140\, Brasil
END:VEVENT
BEGIN:VEVENT
DTSTART;VALUE=DATE:20231102
DTEND;VALUE=DATE:20231104
DTSTAMP:20260422T203501
CREATED:20230208T211358Z
LAST-MODIFIED:20230208T211358Z
UID:5109-1698883200-1699055999@imaculadagoiania.com.br
SUMMARY:2 e 3 – Feriado nacional e recesso – Finados
DESCRIPTION:
URL:https://imaculadagoiania.com.br/calendario/2-e-3-feriado-nacional-e-recesso-finados/
LOCATION:Rua Rui Brasil Cavalcante\, 602\, Setor Marista\, Goiânia\, Goiás\, 74140-140\, Brasil
END:VEVENT
BEGIN:VEVENT
DTSTART;VALUE=DATE:20231028
DTEND;VALUE=DATE:20231029
DTSTAMP:20260422T203501
CREATED:20230208T211249Z
LAST-MODIFIED:20230208T211249Z
UID:5107-1698451200-1698537599@imaculadagoiania.com.br
SUMMARY:28 –  13ª Mostra de Dança da Escola Imaculada
DESCRIPTION:
URL:https://imaculadagoiania.com.br/calendario/28-13a-mostra-de-danca-da-escola-imaculada/
LOCATION:Rua Rui Brasil Cavalcante\, 602\, Setor Marista\, Goiânia\, Goiás\, 74140-140\, Brasil
END:VEVENT
BEGIN:VEVENT
DTSTART;VALUE=DATE:20231023
DTEND;VALUE=DATE:20231025
DTSTAMP:20260422T203501
CREATED:20230208T211215Z
LAST-MODIFIED:20230208T211215Z
UID:5105-1698019200-1698191999@imaculadagoiania.com.br
SUMMARY:23 e 24 – Feriado municipal  e recesso – Aniversário de Goiânia
DESCRIPTION:
URL:https://imaculadagoiania.com.br/calendario/23-e-24-feriado-municipal-e-recesso-aniversario-de-goiania/
LOCATION:Rua Rui Brasil Cavalcante\, 602\, Setor Marista\, Goiânia\, Goiás\, 74140-140\, Brasil
END:VEVENT
BEGIN:VEVENT
DTSTART;VALUE=DATE:20231018
DTEND;VALUE=DATE:20231019
DTSTAMP:20260422T203501
CREATED:20230208T211138Z
LAST-MODIFIED:20230208T211138Z
UID:5103-1697587200-1697673599@imaculadagoiania.com.br
SUMMARY:18 – Formação do corpo docente
DESCRIPTION:
URL:https://imaculadagoiania.com.br/calendario/18-formacao-do-corpo-docente/
LOCATION:Rua Rui Brasil Cavalcante\, 602\, Setor Marista\, Goiânia\, Goiás\, 74140-140\, Brasil
END:VEVENT
BEGIN:VEVENT
DTSTART;VALUE=DATE:20231012
DTEND;VALUE=DATE:20231014
DTSTAMP:20260422T203501
CREATED:20230208T211104Z
LAST-MODIFIED:20230208T211104Z
UID:5101-1697068800-1697241599@imaculadagoiania.com.br
SUMMARY:12 e 13  – feriado nacional/recesso - Dia de N. Sra. Aparecida
DESCRIPTION:
URL:https://imaculadagoiania.com.br/calendario/12-e-13-feriado-nacional-recesso-dia-de-n-sra-aparecida/
LOCATION:Rua Rui Brasil Cavalcante\, 602\, Setor Marista\, Goiânia\, Goiás\, 74140-140\, Brasil
END:VEVENT
BEGIN:VEVENT
DTSTART;VALUE=DATE:20231009
DTEND;VALUE=DATE:20231014
DTSTAMP:20260422T203501
CREATED:20230208T211022Z
LAST-MODIFIED:20230208T211022Z
UID:5099-1696809600-1697241599@imaculadagoiania.com.br
SUMMARY:9 a 13 – Semana da Criança
DESCRIPTION:
URL:https://imaculadagoiania.com.br/calendario/9-a-13-semana-da-crianca/
LOCATION:Rua Rui Brasil Cavalcante\, 602\, Setor Marista\, Goiânia\, Goiás\, 74140-140\, Brasil
END:VEVENT
BEGIN:VEVENT
DTSTART;VALUE=DATE:20231007
DTEND;VALUE=DATE:20231008
DTSTAMP:20260422T203501
CREATED:20230208T210855Z
LAST-MODIFIED:20230208T210855Z
UID:5097-1696636800-1696723199@imaculadagoiania.com.br
SUMMARY:7 – Final do 13º Torneio de Futsal
DESCRIPTION:
URL:https://imaculadagoiania.com.br/calendario/7-final-do-13o-torneio-de-futsal/
LOCATION:Rua Rui Brasil Cavalcante\, 602\, Setor Marista\, Goiânia\, Goiás\, 74140-140\, Brasil
END:VEVENT
BEGIN:VEVENT
DTSTART;VALUE=DATE:20231002
DTEND;VALUE=DATE:20231007
DTSTAMP:20260422T203501
CREATED:20230208T210728Z
LAST-MODIFIED:20230208T210728Z
UID:5095-1696204800-1696636799@imaculadagoiania.com.br
SUMMARY:2 a 6– Jogos do 13º Torneio de Futsal
DESCRIPTION:
URL:https://imaculadagoiania.com.br/calendario/2-a-6-jogos-do-13o-torneio-de-futsal/
LOCATION:Rua Rui Brasil Cavalcante\, 602\, Setor Marista\, Goiânia\, Goiás\, 74140-140\, Brasil
END:VEVENT
BEGIN:VEVENT
DTSTART;VALUE=DATE:20230929
DTEND;VALUE=DATE:20230930
DTSTAMP:20260422T203501
CREATED:20230208T210638Z
LAST-MODIFIED:20230208T210638Z
UID:5093-1695945600-1696031999@imaculadagoiania.com.br
SUMMARY:29 -  Entrega das avaliações – Infantil I ao 5º ano
DESCRIPTION:
URL:https://imaculadagoiania.com.br/calendario/29-entrega-das-avaliacoes-infantil-i-ao-5o-ano/
LOCATION:Rua Rui Brasil Cavalcante\, 602\, Setor Marista\, Goiânia\, Goiás\, 74140-140\, Brasil
END:VEVENT
BEGIN:VEVENT
DTSTART;VALUE=DATE:20230927
DTEND;VALUE=DATE:20230928
DTSTAMP:20260422T203501
CREATED:20230208T210553Z
LAST-MODIFIED:20230208T210553Z
UID:5091-1695772800-1695859199@imaculadagoiania.com.br
SUMMARY:27 – Formação do corpo docente
DESCRIPTION:
URL:https://imaculadagoiania.com.br/calendario/27-formacao-do-corpo-docente/
LOCATION:Rua Rui Brasil Cavalcante\, 602\, Setor Marista\, Goiânia\, Goiás\, 74140-140\, Brasil
END:VEVENT
BEGIN:VEVENT
DTSTART;VALUE=DATE:20230919
DTEND;VALUE=DATE:20231001
DTSTAMP:20260422T203501
CREATED:20230208T210446Z
LAST-MODIFIED:20230208T210446Z
UID:5089-1695081600-1696118399@imaculadagoiania.com.br
SUMMARY:19 a 30– Jogos do 13º Torneio de Futsal
DESCRIPTION:
URL:https://imaculadagoiania.com.br/calendario/19-a-30-jogos-do-13o-torneio-de-futsal/
LOCATION:Rua Rui Brasil Cavalcante\, 602\, Setor Marista\, Goiânia\, Goiás\, 74140-140\, Brasil
END:VEVENT
BEGIN:VEVENT
DTSTART;VALUE=DATE:20230911
DTEND;VALUE=DATE:20230920
DTSTAMP:20260422T203501
CREATED:20230208T210400Z
LAST-MODIFIED:20230208T210400Z
UID:5087-1694390400-1695167999@imaculadagoiania.com.br
SUMMARY:11 a 19 – Avaliações do 1º ao 5º ano – 3º bimestre
DESCRIPTION:
URL:https://imaculadagoiania.com.br/calendario/11-a-19-avaliacoes-do-1o-ao-5o-ano-3o-bimestre/
LOCATION:Rua Rui Brasil Cavalcante\, 602\, Setor Marista\, Goiânia\, Goiás\, 74140-140\, Brasil
END:VEVENT
BEGIN:VEVENT
DTSTART;VALUE=DATE:20230907
DTEND;VALUE=DATE:20230909
DTSTAMP:20260422T203501
CREATED:20230208T210307Z
LAST-MODIFIED:20230208T210307Z
UID:5085-1694044800-1694217599@imaculadagoiania.com.br
SUMMARY:7 e 8  – Feriado nacional e recesso - Independência do Brasil
DESCRIPTION:
URL:https://imaculadagoiania.com.br/calendario/7-e-8-feriado-nacional-e-recesso-independencia-do-brasil/
LOCATION:Rua Rui Brasil Cavalcante\, 602\, Setor Marista\, Goiânia\, Goiás\, 74140-140\, Brasil
END:VEVENT
BEGIN:VEVENT
DTSTART;VALUE=DATE:20230826
DTEND;VALUE=DATE:20230827
DTSTAMP:20260422T203501
CREATED:20230208T210138Z
LAST-MODIFIED:20230208T210138Z
UID:5083-1693008000-1693094399@imaculadagoiania.com.br
SUMMARY:26 -   Festa da família
DESCRIPTION:
URL:https://imaculadagoiania.com.br/calendario/26-festa-da-familia/
LOCATION:Rua Rui Brasil Cavalcante\, 602\, Setor Marista\, Goiânia\, Goiás\, 74140-140\, Brasil
END:VEVENT
BEGIN:VEVENT
DTSTART;VALUE=DATE:20230821
DTEND;VALUE=DATE:20230826
DTSTAMP:20260422T203501
CREATED:20230208T210108Z
LAST-MODIFIED:20230208T210108Z
UID:5081-1692576000-1693007999@imaculadagoiania.com.br
SUMMARY:21 a 25 – Semana da família
DESCRIPTION:
URL:https://imaculadagoiania.com.br/calendario/21-a-25-semana-da-familia/
LOCATION:Rua Rui Brasil Cavalcante\, 602\, Setor Marista\, Goiânia\, Goiás\, 74140-140\, Brasil
END:VEVENT
BEGIN:VEVENT
DTSTART;VALUE=DATE:20230811
DTEND;VALUE=DATE:20230812
DTSTAMP:20260422T203501
CREATED:20230208T210023Z
LAST-MODIFIED:20230208T210023Z
UID:5079-1691712000-1691798399@imaculadagoiania.com.br
SUMMARY:11 - Comemoração do Dia dos Pais
DESCRIPTION:
URL:https://imaculadagoiania.com.br/calendario/11-comemoracao-do-dia-dos-pais/
LOCATION:Rua Rui Brasil Cavalcante\, 602\, Setor Marista\, Goiânia\, Goiás\, 74140-140\, Brasil
END:VEVENT
END:VCALENDAR