BEGIN:VCALENDAR
VERSION:2.0
PRODID:-//Escola Imaculada Goiânia - ECPv6.0.4//NONSGML v1.0//EN
CALSCALE:GREGORIAN
METHOD:PUBLISH
X-WR-CALNAME:Escola Imaculada Goiânia
X-ORIGINAL-URL:https://imaculadagoiania.com.br
X-WR-CALDESC:Events for Escola Imaculada Goiânia
REFRESH-INTERVAL;VALUE=DURATION:PT1H
X-Robots-Tag:noindex
X-PUBLISHED-TTL:PT1H
BEGIN:VTIMEZONE
TZID:America/Sao_Paulo
BEGIN:STANDARD
TZOFFSETFROM:-0300
TZOFFSETTO:-0300
TZNAME:-03
DTSTART:20230101T000000
END:STANDARD
END:VTIMEZONE
BEGIN:VEVENT
DTSTART;VALUE=DATE:20231201
DTEND;VALUE=DATE:20231202
DTSTAMP:20260425T151854
CREATED:20230208T211947Z
LAST-MODIFIED:20230208T211947Z
UID:5123-1701388800-1701475199@imaculadagoiania.com.br
SUMMARY:1 – Encerramento das aulas do Ensino Fundamental ( 1º ao 5º)
DESCRIPTION:
URL:https://imaculadagoiania.com.br/calendario/1-encerramento-das-aulas-do-ensino-fundamental-1o-ao-5o/
LOCATION:Rua Rui Brasil Cavalcante\, 602\, Setor Marista\, Goiânia\, Goiás\, 74140-140\, Brasil
END:VEVENT
BEGIN:VEVENT
DTSTART;VALUE=DATE:20231202
DTEND;VALUE=DATE:20231203
DTSTAMP:20260425T151854
CREATED:20230208T212106Z
LAST-MODIFIED:20230208T212106Z
UID:5127-1701475200-1701561599@imaculadagoiania.com.br
SUMMARY:2 – Formatura do 5º ano
DESCRIPTION:
URL:https://imaculadagoiania.com.br/calendario/2-formatura-do-5o-ano/
LOCATION:Rua Rui Brasil Cavalcante\, 602\, Setor Marista\, Goiânia\, Goiás\, 74140-140\, Brasil
END:VEVENT
BEGIN:VEVENT
DTSTART;VALUE=DATE:20231204
DTEND;VALUE=DATE:20231207
DTSTAMP:20260425T151854
CREATED:20230208T212030Z
LAST-MODIFIED:20230208T212030Z
UID:5125-1701648000-1701907199@imaculadagoiania.com.br
SUMMARY:4 a 6 – Recuperação especial do 2º ao 5º ano
DESCRIPTION:
URL:https://imaculadagoiania.com.br/calendario/4-a-6-recuperacao-especial-do-2o-ao-5o-ano/
LOCATION:Rua Rui Brasil Cavalcante\, 602\, Setor Marista\, Goiânia\, Goiás\, 74140-140\, Brasil
END:VEVENT
BEGIN:VEVENT
DTSTART;VALUE=DATE:20231207
DTEND;VALUE=DATE:20231208
DTSTAMP:20260425T151854
CREATED:20230208T212147Z
LAST-MODIFIED:20230208T212147Z
UID:5129-1701907200-1701993599@imaculadagoiania.com.br
SUMMARY:7 – Encerramento das aulas da Educação Infantil (I ao IV)
DESCRIPTION:
URL:https://imaculadagoiania.com.br/calendario/7-encerramento-das-aulas-da-educacao-infantil-i-ao-iv/
LOCATION:Rua Rui Brasil Cavalcante\, 602\, Setor Marista\, Goiânia\, Goiás\, 74140-140\, Brasil
END:VEVENT
BEGIN:VEVENT
DTSTART;VALUE=DATE:20231207
DTEND;VALUE=DATE:20231208
DTSTAMP:20260425T151854
CREATED:20230208T212222Z
LAST-MODIFIED:20230208T212222Z
UID:5131-1701907200-1701993599@imaculadagoiania.com.br
SUMMARY:7  –  Entrega das avaliações – Infantil I ao 5º ano
DESCRIPTION:
URL:https://imaculadagoiania.com.br/calendario/7-entrega-das-avaliacoes-infantil-i-ao-5o-ano/
LOCATION:Rua Rui Brasil Cavalcante\, 602\, Setor Marista\, Goiânia\, Goiás\, 74140-140\, Brasil
END:VEVENT
BEGIN:VEVENT
DTSTART;VALUE=DATE:20231208
DTEND;VALUE=DATE:20231209
DTSTAMP:20260425T151855
CREATED:20230208T212302Z
LAST-MODIFIED:20230208T212302Z
UID:5133-1701993600-1702079999@imaculadagoiania.com.br
SUMMARY:8 – Dia de Nossa Senhora da Imaculada Conceição
DESCRIPTION:
URL:https://imaculadagoiania.com.br/calendario/8-dia-de-nossa-senhora-da-imaculada-conceicao/
LOCATION:Rua Rui Brasil Cavalcante\, 602\, Setor Marista\, Goiânia\, Goiás\, 74140-140\, Brasil
END:VEVENT
BEGIN:VEVENT
DTSTART;VALUE=DATE:20231211
DTEND;VALUE=DATE:20231221
DTSTAMP:20260425T151855
CREATED:20230208T212349Z
LAST-MODIFIED:20230208T212349Z
UID:5135-1702252800-1703116799@imaculadagoiania.com.br
SUMMARY:11 a 20 – Planejamento e formação do corpo docente
DESCRIPTION:
URL:https://imaculadagoiania.com.br/calendario/11-a-20-planejamento-e-formacao-do-corpo-docente/
LOCATION:Rua Rui Brasil Cavalcante\, 602\, Setor Marista\, Goiânia\, Goiás\, 74140-140\, Brasil
END:VEVENT
BEGIN:VEVENT
DTSTART;VALUE=DATE:20231220
DTEND;VALUE=DATE:20231221
DTSTAMP:20260425T151855
CREATED:20230208T212418Z
LAST-MODIFIED:20230208T212418Z
UID:5137-1703030400-1703116799@imaculadagoiania.com.br
SUMMARY:20 – Confraternização
DESCRIPTION:
URL:https://imaculadagoiania.com.br/calendario/20-confraternizacao/
LOCATION:Rua Rui Brasil Cavalcante\, 602\, Setor Marista\, Goiânia\, Goiás\, 74140-140\, Brasil
END:VEVENT
END:VCALENDAR